BEGIN:VCALENDAR
VERSION:2.0
PRODID:-//New Hope Presbyterian Church - ECPv6.15.1.1//NONSGML v1.0//EN
CALSCALE:GREGORIAN
METHOD:PUBLISH
X-WR-CALNAME:New Hope Presbyterian Church
X-ORIGINAL-URL:https://www.new-hope-pc.org
X-WR-CALDESC:Events for New Hope Presbyterian Church
REFRESH-INTERVAL;VALUE=DURATION:PT1H
X-Robots-Tag:noindex
X-PUBLISHED-TTL:PT1H
BEGIN:VTIMEZONE
TZID:America/New_York
BEGIN:DAYLIGHT
TZOFFSETFROM:-0500
TZOFFSETTO:-0400
TZNAME:EDT
DTSTART:20240310T070000
END:DAYLIGHT
BEGIN:STANDARD
TZOFFSETFROM:-0400
TZOFFSETTO:-0500
TZNAME:EST
DTSTART:20241103T060000
END:STANDARD
END:VTIMEZONE
BEGIN:VEVENT
DTSTART;TZID=America/New_York:20240328T190000
DTEND;TZID=America/New_York:20240328T200000
DTSTAMP:20260423T153402
CREATED:20240316T001807Z
LAST-MODIFIED:20240316T004242Z
UID:51470-1711652400-1711656000@www.new-hope-pc.org
SUMMARY:Maundy Thursday
DESCRIPTION:Commemorate the Last Supper with us in a moving service of Holy Communion and reflection on the new commandment that Jesus gave his disciples.
URL:https://www.new-hope-pc.org/event/maundy-thursday-2/
LOCATION:New Hope PC
CATEGORIES:Worship
ATTACH;FMTTYPE=image/png:https://www.new-hope-pc.org/wp-content/uploads/2024/03/NEW-HOPE-Maundy-Thursday.png
END:VEVENT
END:VCALENDAR