BEGIN:VCALENDAR
VERSION:2.0
PRODID:-//New Hope Presbyterian Church - ECPv6.15.1.1//NONSGML v1.0//EN
CALSCALE:GREGORIAN
METHOD:PUBLISH
X-WR-CALNAME:New Hope Presbyterian Church
X-ORIGINAL-URL:https://www.new-hope-pc.org
X-WR-CALDESC:Events for New Hope Presbyterian Church
REFRESH-INTERVAL;VALUE=DURATION:PT1H
X-Robots-Tag:noindex
X-PUBLISHED-TTL:PT1H
BEGIN:VTIMEZONE
TZID:America/New_York
BEGIN:DAYLIGHT
TZOFFSETFROM:-0500
TZOFFSETTO:-0400
TZNAME:EDT
DTSTART:20220313T070000
END:DAYLIGHT
BEGIN:STANDARD
TZOFFSETFROM:-0400
TZOFFSETTO:-0500
TZNAME:EST
DTSTART:20221106T060000
END:STANDARD
END:VTIMEZONE
BEGIN:VEVENT
DTSTART;TZID=America/New_York:20221127T110000
DTEND;TZID=America/New_York:20221127T120000
DTSTAMP:20260423T180622
CREATED:20221125T222725Z
LAST-MODIFIED:20221125T223651Z
UID:51217-1669546800-1669550400@www.new-hope-pc.org
SUMMARY:Advent Worship Series
DESCRIPTION:
URL:https://www.new-hope-pc.org/event/advent-worship-series/
CATEGORIES:Featured
ATTACH;FMTTYPE=image/jpeg:https://www.new-hope-pc.org/wp-content/uploads/2022/11/advent-service-3-2.jpg
END:VEVENT
BEGIN:VEVENT
DTSTART;TZID=America/New_York:20221127T110000
DTEND;TZID=America/New_York:20221127T120000
DTSTAMP:20260423T180622
CREATED:20221125T222725Z
LAST-MODIFIED:20221125T223651Z
UID:51217-1669546800-1669550400@www.new-hope-pc.org
SUMMARY:Advent Worship Series
DESCRIPTION:
URL:https://www.new-hope-pc.org/event/advent-worship-series/
CATEGORIES:Featured
ATTACH;FMTTYPE=image/jpeg:https://www.new-hope-pc.org/wp-content/uploads/2022/11/advent-service-3-2.jpg
END:VEVENT
BEGIN:VEVENT
DTSTART;TZID=America/New_York:20221127T110000
DTEND;TZID=America/New_York:20221127T120000
DTSTAMP:20260423T180622
CREATED:20221125T222725Z
LAST-MODIFIED:20221125T223651Z
UID:51217-1669546800-1669550400@www.new-hope-pc.org
SUMMARY:Advent Worship Series
DESCRIPTION:
URL:https://www.new-hope-pc.org/event/advent-worship-series/
CATEGORIES:Featured
ATTACH;FMTTYPE=image/jpeg:https://www.new-hope-pc.org/wp-content/uploads/2022/11/advent-service-3-2.jpg
END:VEVENT
BEGIN:VEVENT
DTSTART;TZID=America/New_York:20221127T110000
DTEND;TZID=America/New_York:20221127T120000
DTSTAMP:20260423T180622
CREATED:20221125T222725Z
LAST-MODIFIED:20221125T223651Z
UID:51217-1669546800-1669550400@www.new-hope-pc.org
SUMMARY:Advent Worship Series
DESCRIPTION:
URL:https://www.new-hope-pc.org/event/advent-worship-series/
CATEGORIES:Featured
ATTACH;FMTTYPE=image/jpeg:https://www.new-hope-pc.org/wp-content/uploads/2022/11/advent-service-3-2.jpg
END:VEVENT
BEGIN:VEVENT
DTSTART;TZID=America/New_York:20221127T110000
DTEND;TZID=America/New_York:20221127T120000
DTSTAMP:20260423T180622
CREATED:20221125T222725Z
LAST-MODIFIED:20221125T223651Z
UID:51217-1669546800-1669550400@www.new-hope-pc.org
SUMMARY:Advent Worship Series
DESCRIPTION:
URL:https://www.new-hope-pc.org/event/advent-worship-series/
CATEGORIES:Featured
ATTACH;FMTTYPE=image/jpeg:https://www.new-hope-pc.org/wp-content/uploads/2022/11/advent-service-3-2.jpg
END:VEVENT
BEGIN:VEVENT
DTSTART;VALUE=DATE:20220417
DTEND;VALUE=DATE:20220418
DTSTAMP:20260423T180622
CREATED:20220121T171456Z
LAST-MODIFIED:20220121T171456Z
UID:50705-1650153600-1650239999@www.new-hope-pc.org
SUMMARY:Easter Sunday
DESCRIPTION:
URL:https://www.new-hope-pc.org/event/easter-sunday/
CATEGORIES:Worship
END:VEVENT
BEGIN:VEVENT
DTSTART;VALUE=DATE:20220415
DTEND;VALUE=DATE:20220416
DTSTAMP:20260423T180622
CREATED:20220121T171436Z
LAST-MODIFIED:20220121T171436Z
UID:50703-1649980800-1650067199@www.new-hope-pc.org
SUMMARY:Good Friday
DESCRIPTION:
URL:https://www.new-hope-pc.org/event/good-friday/
CATEGORIES:Worship
END:VEVENT
BEGIN:VEVENT
DTSTART;VALUE=DATE:20220414
DTEND;VALUE=DATE:20220415
DTSTAMP:20260423T180622
CREATED:20220121T171414Z
LAST-MODIFIED:20220121T171414Z
UID:50701-1649894400-1649980799@www.new-hope-pc.org
SUMMARY:Maundy Thursday
DESCRIPTION:
URL:https://www.new-hope-pc.org/event/maundy-thursday/
CATEGORIES:Worship
END:VEVENT
BEGIN:VEVENT
DTSTART;VALUE=DATE:20220410
DTEND;VALUE=DATE:20220411
DTSTAMP:20260423T180622
CREATED:20220121T171347Z
LAST-MODIFIED:20220121T171347Z
UID:50699-1649548800-1649635199@www.new-hope-pc.org
SUMMARY:Palm Sunday
DESCRIPTION:
URL:https://www.new-hope-pc.org/event/palm-sunday/
CATEGORIES:Worship
END:VEVENT
BEGIN:VEVENT
DTSTART;TZID=America/New_York:20220409T110000
DTEND;TZID=America/New_York:20220409T140000
DTSTAMP:20260423T180622
CREATED:20220404T235011Z
LAST-MODIFIED:20220404T235824Z
UID:50997-1649502000-1649512800@www.new-hope-pc.org
SUMMARY:Easter Egg Hunt
DESCRIPTION:SATURDAY\, APRIL 9\, 2022\, 11:00 AM \nFOLLOWED BY A MOVIE\, CRAFTS\, HOT DOGS\, AND A SPECIAL GUEST!!
URL:https://www.new-hope-pc.org/event/easter-egg-hunt/
CATEGORIES:Special Event
ATTACH;FMTTYPE=image/jpeg:https://www.new-hope-pc.org/wp-content/uploads/2022/04/easter-egg-hunt-03.22-1.jpg
END:VEVENT
BEGIN:VEVENT
DTSTART;VALUE=DATE:20220302
DTEND;VALUE=DATE:20220303
DTSTAMP:20260423T180622
CREATED:20220121T171321Z
LAST-MODIFIED:20220121T171321Z
UID:50697-1646179200-1646265599@www.new-hope-pc.org
SUMMARY:Ash Wednesday/Beginning of Lent
DESCRIPTION:
URL:https://www.new-hope-pc.org/event/ash-wednesday-beginning-of-lent/
CATEGORIES:Worship
END:VEVENT
BEGIN:VEVENT
DTSTART;VALUE=DATE:20220201
DTEND;VALUE=DATE:20220301
DTSTAMP:20260423T180622
CREATED:20220121T171006Z
LAST-MODIFIED:20220121T171006Z
UID:50695-1643673600-1646092799@www.new-hope-pc.org
SUMMARY:IMC Women’s Shelter Collection Drive
DESCRIPTION:Collection of sock\, hats\, gloves\, feminine hygiene\, paper products and cleaning supplies for IMC Women’s Shelter
URL:https://www.new-hope-pc.org/event/imc-womens-shelter-collection-drive/
LOCATION:New Hope PC
CATEGORIES:Mission
END:VEVENT
BEGIN:VEVENT
DTSTART;VALUE=DATE:20220101
DTEND;VALUE=DATE:20220201
DTSTAMP:20260423T180622
CREATED:20220121T170836Z
LAST-MODIFIED:20220121T170836Z
UID:50693-1640995200-1643673599@www.new-hope-pc.org
SUMMARY:MCCH Men’s Shelter Collection Drive
DESCRIPTION:Collections of socks\, hats\, and gloves for MCCH Men’s Shelter.
URL:https://www.new-hope-pc.org/event/mcch-mens-shelter-collection-drive/
CATEGORIES:Mission
END:VEVENT
END:VCALENDAR